BEGIN:VCALENDAR
VERSION:2.0
TIMEZONE:Europe/Oslo
PRODID:w3-100664@uib.no
URL:https://www.uib.no/en/math/100664/phd-candidate-h%C3%A5kon-otneims-dis
 putation
NAME:PhD candidate Håkon Otneim's disputation 
BEGIN:VEVENT
UID:w3-100664@uib.no
DTSTAMP:20160912T085940Z
DTSTART:20160923T110000Z
DTEND:20160923T140000Z
SUMMARY:PhD candidate Håkon Otneim's disputation 
LOCATION:Auditorium 5, Realfagbygget
URL:https://www.uib.no/en/math/100664/phd-candidate-h%C3%A5kon-otneims
 -disputation
CLASS:PUBLIC
TRANSP:TRANSPARENT
END:VEVENT
END:VCALENDAR

