BEGIN:VCALENDAR
VERSION:2.0
TIMEZONE:Europe/Oslo
PRODID:w3-101102@uib.no
URL:https://www.uib.no/en/ii/101102/nordic-collegiate-programming-contest-
 2016
NAME:Nordic Collegiate Programming Contest 2016
BEGIN:VEVENT
UID:w3-101102@uib.no
DTSTAMP:20160926T132752Z
DTSTART:20161008T080000Z
DTEND:20161008T143000Z
SUMMARY:Nordic Collegiate Programming Contest 2016
DESCRIPTION:Register your team before October 6!
LOCATION:Faklab 3, Høyteknologisenteret
URL:https://www.uib.no/en/ii/101102/nordic-collegiate-programming-cont
 est-2016
CLASS:PUBLIC
TRANSP:TRANSPARENT
END:VEVENT
END:VCALENDAR

