BEGIN:VCALENDAR
VERSION:2.0
TIMEZONE:Europe/Oslo
PRODID:w3-102981@uib.no
URL:https://www.uib.no/en/node/102981
NAME:Frode Skag Storheim - klaver
BEGIN:VEVENT
UID:w3-102981@uib.no
DTSTAMP:20161129T091532Z
DTSTART:20161205T180000Z
DTEND:20161205T193000Z
SUMMARY:Frode Skag Storheim - klaver
DESCRIPTION:Mandag 5. desember kl. 19:00 er det klart for Frodes Skag
 Storheims avsluttende mastereksamen ved Griegakademiet. Den avholdes i
 Universitetsaulaen.
LOCATION:Universitetsaulaen
URL:https://www.uib.no/en/node/102981
CLASS:PUBLIC
TRANSP:TRANSPARENT
END:VEVENT
END:VCALENDAR

