BEGIN:VCALENDAR
VERSION:2.0
TIMEZONE:Europe/Oslo
PRODID:w3-121989@uib.no
URL:https://www.uib.no/en/node/121989
NAME:Palmera & Fredrik Berberg
BEGIN:VEVENT
UID:w3-121989@uib.no
DTSTAMP:20181115T183738Z
DTSTART:20181122T173000Z
DTEND:20181122T193000Z
SUMMARY:Palmera & Fredrik Berberg
DESCRIPTION:Monday Lectures er en serie forelesninger som arrangeres
 av MA-studenter i kunst. Hvor:  Palmera
 Gallery

Nikolaikirkeallmenningen 2B

5003 Bergen

 

 

Når: 
 Torsdag  22.11.2018    kl. 18.30 - 20.30

 

 
LOCATION:Knut Knaus
URL:https://www.uib.no/en/node/121989
CLASS:PUBLIC
TRANSP:TRANSPARENT
END:VEVENT
END:VCALENDAR

