BEGIN:VCALENDAR
VERSION:2.0
TIMEZONE:Europe/Oslo
PRODID:w3-125340@uib.no
URL:https://www.uib.no/en/globalchallenges/125340/are-global-human-rights-
 eroding
NAME:Are global human rights eroding?
BEGIN:VEVENT
UID:w3-125340@uib.no
DTSTAMP:20190306T130734Z
DTSTART:20190313T073000Z
DTEND:20190313T083000Z
SUMMARY:Are global human rights eroding?
DESCRIPTION:Hanne Sophie Greve on the role of the state in the context
 of human rights and the state’s other obligations.
LOCATION:Bergen Global, Jekteviksbakken 31 (vis-a-vis the Law Faculty)
URL:https://www.uib.no/en/globalchallenges/125340/are-global-human-rig
 hts-eroding
CLASS:PUBLIC
TRANSP:TRANSPARENT
END:VEVENT
END:VCALENDAR

