BEGIN:VCALENDAR
VERSION:2.0
TIMEZONE:Europe/Oslo
PRODID:w3-128438@uib.no
URL:https://www.uib.no/en/michaelsarscentre/128438/uli-technau-university-
 vienna
NAME:Uli Technau, University of Vienna
BEGIN:VEVENT
UID:w3-128438@uib.no
DTSTAMP:20190704T075207Z
DTSTART:20191122T123000Z
DTEND:20191122T133000Z
SUMMARY:Uli Technau, University of Vienna
DESCRIPTION:"The evolution of mesoderm and its derivatives - lessons
 from a diploblastic sea anemone"
LOCATION:HiB, Bioblokken 5th floor, Room 520B (Thormøhlensgt. 55,
 5006 Bergen)
URL:https://www.uib.no/en/michaelsarscentre/128438/uli-technau-univers
 ity-vienna
CLASS:PUBLIC
TRANSP:TRANSPARENT
END:VEVENT
END:VCALENDAR

