BEGIN:VCALENDAR
VERSION:2.0
TIMEZONE:Europe/Oslo
PRODID:w3-129244@uib.no
URL:https://www.uib.no/en/globalchallenges/129244/evolving-political-dynam
 ics-ethiopia
NAME:The evolving political dynamics in Ethiopia
BEGIN:VEVENT
UID:w3-129244@uib.no
DTSTAMP:20190829T132957Z
DTSTART:20190906T080000Z
DTEND:20190906T090000Z
SUMMARY:The evolving political dynamics in Ethiopia
DESCRIPTION:Implications for the greater Horn of Africa.
LOCATION:Bergen Global, Jekteviksbakken 31
URL:https://www.uib.no/en/globalchallenges/129244/evolving-political-d
 ynamics-ethiopia
CLASS:PUBLIC
TRANSP:TRANSPARENT
END:VEVENT
END:VCALENDAR

