BEGIN:VCALENDAR
VERSION:2.0
TIMEZONE:Europe/Oslo
PRODID:w3-131996@uib.no
URL:https://www.uib.no/en/node/131996
NAME:Technologies are Us: Feminist Perspectives on Posthuman Futures
BEGIN:VEVENT
UID:w3-131996@uib.no
DTSTAMP:20191202T081720Z
DTSTART:20200923T080000Z
DTEND:20200925T140000Z
SUMMARY:Technologies are Us: Feminist Perspectives on Posthuman
 Futures
DESCRIPTION:Tre-dagerskurs i feministisk tenkning rundt den
 teknologiske utviklingen.
LOCATION:University of Bergen
URL:https://www.uib.no/en/node/131996
CLASS:PUBLIC
TRANSP:TRANSPARENT
END:VEVENT
END:VCALENDAR

