BEGIN:VCALENDAR
VERSION:2.0
TIMEZONE:Europe/Oslo
PRODID:w3-135765@uib.no
URL:https://www.uib.no/en/node/135765
NAME:Bistandspenger i skatteparadis
BEGIN:VEVENT
UID:w3-135765@uib.no
DTSTAMP:20200507T121239Z
DTSTART:20200520T090000Z
DTEND:20200520T100000Z
SUMMARY:Bistandspenger i skatteparadis
DESCRIPTION:Møt en av forskerne bak den ferske rapporten til
 Verdensbanken, Jørgen Juel Andersen (BI) i samtale med Kristine
 Sævold (UiB) og Peter Henriksen Ringstad fra Tax Justice Network
 Norge.
LOCATION:Bergen Global på Zoom og YouTube
URL:https://www.uib.no/en/node/135765
CLASS:PUBLIC
TRANSP:TRANSPARENT
END:VEVENT
END:VCALENDAR

