BEGIN:VCALENDAR
VERSION:2.0
TIMEZONE:Europe/Oslo
PRODID:w3-148051@uib.no
URL:https://www.uib.no/en/node/148051
NAME:Feminist Visions for Justice in Times of Environmental Crises
BEGIN:VEVENT
UID:w3-148051@uib.no
DTSTAMP:20210920T070757Z
DTSTART:20211213T090000Z
DTEND:20211215T130000Z
SUMMARY:Feminist Visions for Justice in Times of Environmental Crises
DESCRIPTION:Dette PhD-kurset, som er organisert av InterGender og
 SKOK, utforskar feministiske visjonar for miljørettferd og tilbyr eit
 rammeverk for tenking rundt skjeringspunktet mellom feministisk teori
 og miljørettferd.
LOCATION:Hybrid - Bergen og Zoom
URL:https://www.uib.no/en/node/148051
CLASS:PUBLIC
TRANSP:TRANSPARENT
END:VEVENT
END:VCALENDAR

