BEGIN:VCALENDAR
VERSION:2.0
TIMEZONE:Europe/Oslo
PRODID:w3-161662@uib.no
URL:https://www.uib.no/en/node/161662
NAME:How to write competitive proposals for the ERC Advanced Grant
BEGIN:VEVENT
UID:w3-161662@uib.no
DTSTAMP:20230404T104449Z
DTSTART:20260511T070000Z
DTEND:20260511T131500Z
SUMMARY:How to write competitive proposals for the ERC Advanced Grant
DESCRIPTION:The ERC Advanced Grant is competitive, but UiB has many
 examples of researchers who have won and enjoy the academic freedom of
 an ERC grant. Find out how to prepare a competitive application by
 attending this digital workshop. The ERC Advanced Grant competition is
 open to all researchers with 12 or more years of active research
 experience.
LOCATION:Digital
URL:https://www.uib.no/en/node/161662
CLASS:PUBLIC
TRANSP:TRANSPARENT
END:VEVENT
END:VCALENDAR

