BEGIN:VCALENDAR
VERSION:2.0
TIMEZONE:Europe/Oslo
PRODID:w3-170447@uib.no
URL:https://www.uib.no/en/rg/litrel/170447/translating-word
NAME:Translating the Word
BEGIN:VEVENT
UID:w3-170447@uib.no
DTSTAMP:20240503T083722Z
DTSTART:20240530T130000Z
DTEND:20240530T143000Z
SUMMARY:Translating the Word
DESCRIPTION:Come learn about the rich variety of Old English religious
 prose
LOCATION:HF Bygget 265
URL:https://www.uib.no/en/rg/litrel/170447/translating-word
CLASS:PUBLIC
TRANSP:TRANSPARENT
END:VEVENT
END:VCALENDAR

