BEGIN:VCALENDAR
VERSION:2.0
TIMEZONE:Europe/Oslo
PRODID:w3-181700@uib.no
URL:https://www.uib.no/en/node/181700
NAME:Kurs i pilfletting med Drude Isene FULLT
BEGIN:VEVENT
UID:w3-181700@uib.no
DTSTAMP:20260220T103320Z
DTSTART:20260328T090000Z
DTEND:20260328T150000Z
SUMMARY:Kurs i pilfletting med Drude Isene FULLT
DESCRIPTION:Bli med på kurs i pilfletting sammen med Drude Isene fra
 Søre Skogen. Hun har holdt inspirerende kurs i hagen tidligere.
LOCATION:Bergen Botaniske hage, Skipanesvegen 45
URL:https://www.uib.no/en/node/181700
CLASS:PUBLIC
TRANSP:TRANSPARENT
END:VEVENT
END:VCALENDAR

