BEGIN:VCALENDAR
VERSION:2.0
TIMEZONE:Europe/Oslo
PRODID:w3-181797@uib.no
URL:https://www.uib.no/en/ocean/181797/uib-events-during-one-ocean-week-20
 26
NAME:UiB events during One Ocean Week 2026
BEGIN:VEVENT
UID:w3-181797@uib.no
DTSTAMP:20260226T110854Z
DTSTART:20260418T060000Z
DTEND:20260424T180000Z
SUMMARY:UiB events during One Ocean Week 2026
DESCRIPTION:For the fourth time, One Ocean Week will be held in the
 middle of April – a week filled with exciting and entertaining
 events about our sustainable ocean in Bergen. On this page you will
 find an overview of UiB's events during the week. All events are free
 and open to everyone, except where indicated.
URL:https://www.uib.no/en/ocean/181797/uib-events-during-one-ocean-wee
 k-2026
CLASS:PUBLIC
TRANSP:TRANSPARENT
END:VEVENT
END:VCALENDAR

