BEGIN:VCALENDAR
VERSION:2.0
TIMEZONE:Europe/Oslo
PRODID:w3-182177@uib.no
URL:https://www.uib.no/en/bio/182177/masters-presentations-department-biol
 ogical-sciences-tuesday-june-16-2026
NAME:Master's presentations, Department of Biological Sciences, Tuesday,
 June 16, 2026
BEGIN:VEVENT
UID:w3-182177@uib.no
DTSTAMP:20260401T072809Z
DTSTART:20260616T080000Z
DTEND:20260616T113000Z
SUMMARY:Master's presentations, Department of Biological Sciences,
 Tuesday, June 16, 2026
LOCATION:See info for each candidate
URL:https://www.uib.no/en/bio/182177/masters-presentations-department-
 biological-sciences-tuesday-june-16-2026
CLASS:PUBLIC
TRANSP:TRANSPARENT
END:VEVENT
END:VCALENDAR

