BEGIN:VCALENDAR
VERSION:2.0
TIMEZONE:Europe/Oslo
PRODID:w3-182182@uib.no
URL:https://www.uib.no/en/bio/182182/masters-presentations-department-biol
 ogical-sciences-monday-june-22-2026
NAME:Master's presentations, Department of Biological Sciences, Monday,
 June 22, 2026
BEGIN:VEVENT
UID:w3-182182@uib.no
DTSTAMP:20260401T080942Z
DTSTART:20260622T073000Z
DTEND:20260622T114500Z
SUMMARY:Master's presentations, Department of Biological Sciences,
 Monday, June 22, 2026
LOCATION:See info for each candidate
URL:https://www.uib.no/en/bio/182182/masters-presentations-department-
 biological-sciences-monday-june-22-2026
CLASS:PUBLIC
TRANSP:TRANSPARENT
END:VEVENT
END:VCALENDAR

