BEGIN:VCALENDAR
VERSION:2.0
TIMEZONE:Europe/Oslo
PRODID:w3-182260@uib.no
URL:https://www.uib.no/en/globpub/182260/trial-lecture-martin-chebet
NAME:Trial Lecture: Martin Chebet
BEGIN:VEVENT
UID:w3-182260@uib.no
DTSTAMP:20260413T132121Z
DTSTART:20260417T081500Z
DTEND:20260417T091500Z
SUMMARY:Trial Lecture: Martin Chebet
LOCATION:HUS - Sentralblokka, Auditorium B301
URL:https://www.uib.no/en/globpub/182260/trial-lecture-martin-chebet
CLASS:PUBLIC
TRANSP:TRANSPARENT
END:VEVENT
END:VCALENDAR

