BEGIN:VCALENDAR
VERSION:2.0
TIMEZONE:Europe/Oslo
PRODID:w3-182280@uib.no
URL:https://www.uib.no/en/lle/182280/honorary-doctorate-seminar-conversati
 on-between-karl-ove-knausg%C3%A5rd-and-toril-moi
NAME:Honorary Doctorate Seminar: A conversation between Karl Ove Knausgård
 and Toril Moi
BEGIN:VEVENT
UID:w3-182280@uib.no
DTSTAMP:20260414T143016Z
DTSTART:20260520T130000Z
DTEND:20260520T140000Z
SUMMARY:Honorary Doctorate Seminar: A conversation between Karl Ove
 Knausgård and Toril Moi
DESCRIPTION:Welcome to a conversation between UiB’s new honorary
 doctor Karl Ove Knausgård and Professor Toril Moi
LOCATION:The University Aula in Bergen
URL:https://www.uib.no/en/lle/182280/honorary-doctorate-seminar-conver
 sation-between-karl-ove-knausg%C3%A5rd-and-toril-moi
CLASS:PUBLIC
TRANSP:TRANSPARENT
END:VEVENT
END:VCALENDAR

