BEGIN:VCALENDAR
VERSION:2.0
TIMEZONE:Europe/Oslo
PRODID:w3-182305@uib.no
URL:https://www.uib.no/en/node/182305
NAME:Education in the Age of Polycrisis: Implications for AI and Analytics 
BEGIN:VEVENT
UID:w3-182305@uib.no
DTSTAMP:20260416T132134Z
DTSTART:20260504T080000Z
DTEND:20260504T110000Z
SUMMARY:Education in the Age of Polycrisis: Implications for AI and
 Analytics 
DESCRIPTION:AI LEARN welcomes you to an interactive workshop on the
 implications for AI and Analytics in education in the age of "the
 polycrisis". The workshop is led by Simon Buckingham Shum, Professor
 of Learning Informatics & Director of Connected Intelligence Centre,
 University of Technology Sydney.
LOCATION:AI LEARN / SLATE, Christies gate 12, 2nd floor
URL:https://www.uib.no/en/node/182305
CLASS:PUBLIC
TRANSP:TRANSPARENT
END:VEVENT
END:VCALENDAR

