BEGIN:VCALENDAR
VERSION:2.0
TIMEZONE:Europe/Oslo
PRODID:w3-182308@uib.no
URL:https://www.uib.no/en/bio/182308/functional-characterization-common-hn
 f1a-haplotypes-type2-diabetes-and-rare-nuclear
NAME:Functional Characterization of Common HNF1A Haplotypes in Type2
 Diabetes and Rare Nuclear Localization Signal Variants in Suspected
 HNF1A-MODY
BEGIN:VEVENT
UID:w3-182308@uib.no
DTSTAMP:20260417T070441Z
DTSTART:20260421T071500Z
DTEND:20260421T080000Z
SUMMARY:Functional Characterization of Common HNF1A Haplotypes in
 Type2 Diabetes and Rare Nuclear Localization Signal Variants in
 Suspected HNF1A-MODY
LOCATION:Room 439C1 ("the Incubator), 4th floor Bioblokken,
 Thormøhlens gt 55
URL:https://www.uib.no/en/bio/182308/functional-characterization-commo
 n-hnf1a-haplotypes-type2-diabetes-and-rare-nuclear
CLASS:PUBLIC
TRANSP:TRANSPARENT
END:VEVENT
END:VCALENDAR

