BEGIN:VCALENDAR
VERSION:2.0
TIMEZONE:Europe/Oslo
PRODID:w3-182311@uib.no
URL:https://www.uib.no/en/bio/182311/insights-molecular-and-cellular-inter
 actions-xenobiotic-compounds-and-xenobiotic-sensing
NAME:Insights into the Molecular and Cellular Interactions of Xenobiotic
 Compounds and Xenobiotic-Sensing Receptors in Marine Mammals
BEGIN:VEVENT
UID:w3-182311@uib.no
DTSTAMP:20260417T111758Z
DTSTART:20260421T121500Z
DTEND:20260421T130000Z
SUMMARY:Insights into the Molecular and Cellular Interactions of
 Xenobiotic Compounds and Xenobiotic-Sensing Receptors in Marine
 Mammals
LOCATION:Seminar room K3 (room 1H19), Thormøhlens gt 53B
URL:https://www.uib.no/en/bio/182311/insights-molecular-and-cellular-i
 nteractions-xenobiotic-compounds-and-xenobiotic-sensing
CLASS:PUBLIC
TRANSP:TRANSPARENT
END:VEVENT
END:VCALENDAR

