BEGIN:VCALENDAR
VERSION:2.0
TIMEZONE:Europe/Oslo
PRODID:w3-182312@uib.no
URL:https://www.uib.no/en/math/182312/celebrating-women-mathematics-2026
NAME:Celebrating women in mathematics 2026
BEGIN:VEVENT
UID:w3-182312@uib.no
DTSTAMP:20260417T122104Z
DTSTART:20260513T130000Z
DTEND:20260513T160000Z
SUMMARY:Celebrating women in mathematics 2026
DESCRIPTION:Screening of the French movie "Je suis Sophie Germain/I am
 Sophie Germain" on conjunction with her 250th birth anniversary
LOCATION:Department of Mathematics
URL:https://www.uib.no/en/math/182312/celebrating-women-mathematics-20
 26
CLASS:PUBLIC
TRANSP:TRANSPARENT
END:VEVENT
END:VCALENDAR

