BEGIN:VCALENDAR
VERSION:2.0
TIMEZONE:Europe/Oslo
PRODID:w3-182358@uib.no
URL:https://www.uib.no/en/uped/182358/uib-l%C3%A6ringskonferanse-2026
NAME:UiB Læringskonferanse 2026
BEGIN:VEVENT
UID:w3-182358@uib.no
DTSTAMP:20260420T125143Z
DTSTART:20261029T073000Z
DTEND:20261029T150000Z
SUMMARY:UiB Læringskonferanse 2026
DESCRIPTION:The UiB Program for University Pedagogy, UiB Universal and
 UiB Learning Lab invite you to contribute to the UiB
 Læringskonferanse 2026. We welcome Scholarship of Teaching and
 Learning (SoTL) contributions from all members of the UiB community
 and CHARM-EU institutions who wish to share teaching and learning
 development work in higher education. The conference will include
 keynote speakers and workshops, paper panels and poster presentations.
LOCATION:UiB Læringsarena (NG5) Nygårdsgaten 5
URL:https://www.uib.no/en/uped/182358/uib-l%C3%A6ringskonferanse-2026
CLASS:PUBLIC
TRANSP:TRANSPARENT
END:VEVENT
END:VCALENDAR

