BEGIN:VCALENDAR
VERSION:2.0
TIMEZONE:Europe/Oslo
PRODID:w3-182363@uib.no
URL:https://www.uib.no/en/globpub/182363/doctoral-dissertation-defence-sta
 nd-hiestand
NAME:Doctoral dissertation defence: Stand Hiestand
BEGIN:VEVENT
UID:w3-182363@uib.no
DTSTAMP:20260421T081044Z
DTSTART:20260504T103000Z
DTEND:20260504T140000Z
SUMMARY:Doctoral dissertation defence: Stand Hiestand
LOCATION:HUS - Armauer Hansens hus, Auditorium AHH
URL:https://www.uib.no/en/globpub/182363/doctoral-dissertation-defence
 -stand-hiestand
CLASS:PUBLIC
TRANSP:TRANSPARENT
END:VEVENT
END:VCALENDAR

