BEGIN:VCALENDAR
VERSION:2.0
TIMEZONE:Europe/Oslo
PRODID:w3-182364@uib.no
URL:https://www.uib.no/en/globpub/182364/trial-lecture-stand-hiestand
NAME:Trial lecture: Stand Hiestand 
BEGIN:VEVENT
UID:w3-182364@uib.no
DTSTAMP:20260421T083207Z
DTSTART:20260504T083000Z
DTEND:20260504T093000Z
SUMMARY:Trial lecture: Stand Hiestand 
LOCATION:HUS - Armauer Hansens hus, Auditorium AHH
URL:https://www.uib.no/en/globpub/182364/trial-lecture-stand-hiestand
CLASS:PUBLIC
TRANSP:TRANSPARENT
END:VEVENT
END:VCALENDAR

