BEGIN:VCALENDAR
VERSION:2.0
TIMEZONE:Europe/Oslo
PRODID:w3-182373@uib.no
URL:https://www.uib.no/en/bio/182373/master-presentation-gina-koulibaly-ba
 rry
NAME:Master presentation Gina Koulibaly Barry
BEGIN:VEVENT
UID:w3-182373@uib.no
DTSTAMP:20260421T115206Z
DTSTART:20260512T110000Z
DTEND:20260512T113000Z
SUMMARY:Master presentation Gina Koulibaly Barry
LOCATION:Inkubatoren 439C1 (Tormøhlensgt. 55, Bioblokken, 4. floor)
URL:https://www.uib.no/en/bio/182373/master-presentation-gina-koulibal
 y-barry
CLASS:PUBLIC
TRANSP:TRANSPARENT
END:VEVENT
END:VCALENDAR

