BEGIN:VCALENDAR
VERSION:2.0
TIMEZONE:Europe/Oslo
PRODID:w3-182428@uib.no
URL:https://www.uib.no/en/biomedisin/182428/pixels-protocols-advancing-neu
 rosurgical-decision-support-ai
NAME:From pixels to protocols: Advancing neurosurgical decision support
 with AI
BEGIN:VEVENT
UID:w3-182428@uib.no
DTSTAMP:20260423T075642Z
DTSTART:20260429T123000Z
DTEND:20260429T133000Z
SUMMARY:From pixels to protocols: Advancing neurosurgical decision
 support with AI
LOCATION:Auditorium 4, BBB
URL:https://www.uib.no/en/biomedisin/182428/pixels-protocols-advancing
 -neurosurgical-decision-support-ai
CLASS:PUBLIC
TRANSP:TRANSPARENT
END:VEVENT
END:VCALENDAR

