BEGIN:VCALENDAR
VERSION:2.0
TIMEZONE:Europe/Oslo
PRODID:w3-60268@uib.no
URL:https://www.uib.no/en/ii/60268/domain-science-engineering-new-facet-in
 formatics
NAME:Domain Science & Engineering: A New Facet of Informatics
BEGIN:VEVENT
UID:w3-60268@uib.no
DTSTAMP:20120504T101832Z
DTSTART:20120510T121500Z
DTEND:20120510T131500Z
SUMMARY:Domain Science & Engineering: A New Facet of Informatics
LOCATION:Large Auditorium (room 2144, 2nd Floor of the Bergen High
 Technology Centre (HIB))
URL:https://www.uib.no/en/ii/60268/domain-science-engineering-new-face
 t-informatics
CLASS:PUBLIC
TRANSP:TRANSPARENT
END:VEVENT
END:VCALENDAR

