BEGIN:VCALENDAR
VERSION:2.0
TIMEZONE:Europe/Oslo
PRODID:w3-60751@uib.no
URL:https://www.uib.no/en/ii/60751/identity-based-cryptosystems-trial-lect
 ure-reza-abyaned-sohizadeh
NAME:"Identity-based cryptosystems" - trial lecture by Reza Abyaned
 Sohizadeh
BEGIN:VEVENT
UID:w3-60751@uib.no
DTSTAMP:20120323T064412Z
DTSTART:20120326T120000Z
DTEND:20120326T120000Z
SUMMARY:"Identity-based cryptosystems" - trial lecture by Reza Abyaned
 Sohizadeh
LOCATION:Seminarroom 3137, 3.floor, Høyteknologisenteret
URL:https://www.uib.no/en/ii/60751/identity-based-cryptosystems-trial-
 lecture-reza-abyaned-sohizadeh
CLASS:PUBLIC
TRANSP:TRANSPARENT
END:VEVENT
END:VCALENDAR

