BEGIN:VCALENDAR
VERSION:2.0
TIMEZONE:Europe/Oslo
PRODID:w3-76875@uib.no
URL:https://www.uib.no/en/node/76875
NAME:Samklangfunnet: Barokk! 
BEGIN:VEVENT
UID:w3-76875@uib.no
DTSTAMP:20140513T135419Z
DTSTART:20140514T180000Z
DTEND:20140514T190000Z
SUMMARY:Samklangfunnet: Barokk! 
DESCRIPTION:Kom med en kveldstur inn i Barokkens verden -
LOCATION:Kvrteret
URL:https://www.uib.no/en/node/76875
CLASS:PUBLIC
TRANSP:TRANSPARENT
END:VEVENT
END:VCALENDAR

