BEGIN:VCALENDAR
VERSION:2.0
TIMEZONE:Europe/Oslo
PRODID:w3-100482@uib.no
URL:https://www.uib.no/nb/ccbio/100482/hengshuo-liu
NAME:Hengshuo Liu 
BEGIN:VEVENT
UID:w3-100482@uib.no
DTSTAMP:20160906T134610Z
DTSTART:20160916T101500Z
DTEND:20160916T131500Z
SUMMARY:Hengshuo Liu 
DESCRIPTION:Hengshuo Liu defends September 16th his thesis
 “Expression and mechanosensitivity of integrin alpha 11 in the
 tumour microenvironment”. Main supervisor is Professor Donald
 Gullberg, and co-supervisor is Professor Rolf K. Reed.
LOCATION:Aud. 4, BB-building, Jonas Lies vei 91, Bergen
URL:https://www.uib.no/nb/ccbio/100482/hengshuo-liu
CLASS:PUBLIC
TRANSP:TRANSPARENT
END:VEVENT
END:VCALENDAR

