BEGIN:VCALENDAR
VERSION:2.0
TIMEZONE:Europe/Oslo
PRODID:w3-100580@uib.no
URL:https://www.uib.no/nb/node/100580
NAME:Rokkan on Regional Governance: The Effect of Community
BEGIN:VEVENT
UID:w3-100580@uib.no
DTSTAMP:20160908T130921Z
DTSTART:20160921T121500Z
DTEND:20160921T140000Z
SUMMARY:Rokkan on Regional Governance: The Effect of Community
DESCRIPTION:This year’s Rokkan Lecture will be presented by
 Professor Gary Marks and Professor Liesbet Hooghe.
LOCATION:The University Aula, Muséplassen 3
URL:https://www.uib.no/nb/node/100580
CLASS:PUBLIC
TRANSP:TRANSPARENT
END:VEVENT
END:VCALENDAR

