BEGIN:VCALENDAR
VERSION:2.0
TIMEZONE:Europe/Oslo
PRODID:w3-116758@uib.no
URL:https://www.uib.no/nb/psyfa/116758/disputas-ingfrid-vaksdal-brattab%C3
 %B8
NAME:Disputas - Ingfrid Vaksdal Brattabø
BEGIN:VEVENT
UID:w3-116758@uib.no
DTSTAMP:20180413T065255Z
DTSTART:20180427T083000Z
DTEND:20180427T113000Z
SUMMARY:Disputas - Ingfrid Vaksdal Brattabø
LOCATION:Bjørn Christiansens hus, Christiesgt. 12, aud. 129, 1 etg.
URL:https://www.uib.no/nb/psyfa/116758/disputas-ingfrid-vaksdal-bratta
 b%C3%B8
CLASS:PUBLIC
TRANSP:TRANSPARENT
END:VEVENT
END:VCALENDAR

