BEGIN:VCALENDAR
VERSION:2.0
TIMEZONE:Europe/Oslo
PRODID:w3-120458@uib.no
URL:https://www.uib.no/nb/samfunnsutfordringer/120458/populisme
NAME:Populisme
BEGIN:VEVENT
UID:w3-120458@uib.no
DTSTAMP:20180921T085355Z
DTSTART:20180928T063000Z
DTEND:20180928T073000Z
SUMMARY:Populisme
DESCRIPTION:Frokostforum med Svein-Erik Helle (CMI/UiB), Jonas Linde
 (UiB) og Leiv Marsteintredet (UiB) om høyrepopulistiske partier og
 demokratiets fremtid.
LOCATION:Bergen Resource Centre UiB/CMI, Jekteviksbakken 31 (vis-a-vis
 Juss-fakultetet)
URL:https://www.uib.no/nb/samfunnsutfordringer/120458/populisme
CLASS:PUBLIC
TRANSP:TRANSPARENT
END:VEVENT
END:VCALENDAR

