BEGIN:VCALENDAR
VERSION:2.0
TIMEZONE:Europe/Oslo
PRODID:w3-126561@uib.no
URL:https://www.uib.no/nb/kmd/126561/masterclass-med-fredrik-fors
NAME:Masterclass med Fredrik Fors
BEGIN:VEVENT
UID:w3-126561@uib.no
DTSTAMP:20190423T085109Z
DTSTART:20190510T123000Z
DTEND:20190511T163000Z
SUMMARY:Masterclass med Fredrik Fors
DESCRIPTION:Griegakademiet inviterer til Masterclass med den
 verdensberømte klarinettisten Fredrik Fors! Fredrik er Alternerende
 Soloklarinettist i Oslo Filharmoniske Orkester og Førsteamanuensis
 ved Norges Musikkhøgskole.
 Sted: Griegakademiet: Lars Hilles gate 3, 5015 Bergen

Tid: 
Fredag
 10.05 13.30-17.30 i Gunnar Sævigs Sal
Lørdag 11.05 10.00-14.00 i
 Prøvesalen
LOCATION:Gunnar Sævigs sal
URL:https://www.uib.no/nb/kmd/126561/masterclass-med-fredrik-fors
CLASS:PUBLIC
TRANSP:TRANSPARENT
END:VEVENT
END:VCALENDAR

