BEGIN:VCALENDAR
VERSION:2.0
TIMEZONE:Europe/Oslo
PRODID:w3-135777@uib.no
URL:https://www.uib.no/nb/node/135777
NAME:Crash Course in how to use Mitt UiB
BEGIN:VEVENT
UID:w3-135777@uib.no
DTSTAMP:20200507T200236Z
DTSTART:20200519T120000Z
DTEND:20200519T123000Z
SUMMARY:Crash Course in how to use Mitt UiB
DESCRIPTION:Mitt UiB is the hub for digital teaching and learning at
 UiB.  We invite new users in need of an introduction to Mitt UiB to
 this crash course.
URL:https://www.uib.no/nb/node/135777
CLASS:PUBLIC
TRANSP:TRANSPARENT
END:VEVENT
END:VCALENDAR

