BEGIN:VCALENDAR
VERSION:2.0
TIMEZONE:Europe/Oslo
PRODID:w3-152204@uib.no
URL:https://www.uib.no/nb/node/152204
NAME:Winter dendrology
BEGIN:VEVENT
UID:w3-152204@uib.no
DTSTAMP:20220301T123945Z
DTSTART:20220313T110000Z
DTEND:20220313T130000Z
SUMMARY:Winter dendrology
DESCRIPTION:A tour of the characteristics for identifying the most
 common trees and shrubs.
LOCATION:Det norske arboret, Mildevegen 240
URL:https://www.uib.no/nb/node/152204
CLASS:PUBLIC
TRANSP:TRANSPARENT
END:VEVENT
END:VCALENDAR

