BEGIN:VCALENDAR
VERSION:2.0
TIMEZONE:Europe/Oslo
PRODID:w3-162179@uib.no
URL:https://www.uib.no/nb/infomedia/162179/interacting-ai-visualization-pe
 rspective
NAME:Interacting with AI: A visualization perspective
BEGIN:VEVENT
UID:w3-162179@uib.no
DTSTAMP:20230427T061350Z
DTSTART:20230509T081500Z
DTEND:20230509T090000Z
SUMMARY:Interacting with AI: A visualization perspective
DESCRIPTION:We would like to invite you to a gest lecture by professor
 in augmented reality and virtual reality Michael Sedlmair from the
 University of Stuttgart
LOCATION:Lite Auditorium, SV-bygget
URL:https://www.uib.no/nb/infomedia/162179/interacting-ai-visualizatio
 n-perspective
CLASS:PUBLIC
TRANSP:TRANSPARENT
END:VEVENT
END:VCALENDAR

