BEGIN:VCALENDAR
VERSION:2.0
TIMEZONE:Europe/Oslo
PRODID:w3-182152@uib.no
URL:https://www.uib.no/nb/med/182152/fakultetets-dag-2026
NAME:Fakultetets dag 2026
BEGIN:VEVENT
UID:w3-182152@uib.no
DTSTAMP:20260327T113344Z
DTSTART:20260429T064500Z
DTEND:20260429T100000Z
SUMMARY:Fakultetets dag 2026
DESCRIPTION:Velkommen til en dag med prisutdelinger og foredrag!
LOCATION:Auditoriet, Armauer Hansens Hus 
URL:https://www.uib.no/nb/med/182152/fakultetets-dag-2026
CLASS:PUBLIC
TRANSP:TRANSPARENT
END:VEVENT
END:VCALENDAR

