BEGIN:VCALENDAR
VERSION:2.0
TIMEZONE:Europe/Oslo
PRODID:w3-182186@uib.no
URL:https://www.uib.no/nb/bio/182186/masters-presentations-department-biol
 ogical-sciences-monday-june-15-2026
NAME:Master's presentations, Department of Biological Sciences, Monday,
 June 15, 2026
BEGIN:VEVENT
UID:w3-182186@uib.no
DTSTAMP:20260401T091738Z
DTSTART:20260615T081500Z
DTEND:20260615T114500Z
SUMMARY:Master's presentations, Department of Biological Sciences,
 Monday, June 15, 2026
LOCATION:See info for each candidate
URL:https://www.uib.no/nb/bio/182186/masters-presentations-department-
 biological-sciences-monday-june-15-2026
CLASS:PUBLIC
TRANSP:TRANSPARENT
END:VEVENT
END:VCALENDAR

