BEGIN:VCALENDAR
VERSION:2.0
TIMEZONE:Europe/Oslo
PRODID:w3-182188@uib.no
URL:https://www.uib.no/nb/bio/182188/disputas-oddvar-hegg%C3%B8y
NAME:Disputas : Oddvar Heggøy
BEGIN:VEVENT
UID:w3-182188@uib.no
DTSTAMP:20260401T123110Z
DTSTART:20260424T081500Z
DTEND:20260424T110000Z
SUMMARY:Disputas : Oddvar Heggøy
LOCATION:Tårnsalen, Universitetsmuseet
URL:https://www.uib.no/nb/bio/182188/disputas-oddvar-hegg%C3%B8y
CLASS:PUBLIC
TRANSP:TRANSPARENT
END:VEVENT
END:VCALENDAR

