BEGIN:VCALENDAR
VERSION:2.0
TIMEZONE:Europe/Oslo
PRODID:w3-182207@uib.no
URL:https://www.uib.no/nb/psyfa/182207/disputas-qinyi-liu
NAME:Disputas: Qinyi Liu
BEGIN:VEVENT
UID:w3-182207@uib.no
DTSTAMP:20260407T113114Z
DTSTART:20260424T083000Z
DTEND:20260424T113000Z
SUMMARY:Disputas: Qinyi Liu
LOCATION:Bjørn Christiansens hus (Christies gate 12), Auditorium 129
URL:https://www.uib.no/nb/psyfa/182207/disputas-qinyi-liu
CLASS:PUBLIC
TRANSP:TRANSPARENT
END:VEVENT
END:VCALENDAR

