BEGIN:VCALENDAR
VERSION:2.0
TIMEZONE:Europe/Oslo
PRODID:w3-182219@uib.no
URL:https://www.uib.no/nb/kj/182219/disputas-christian-sant-gjermestad
NAME:Disputas : Christian Sant Gjermestad
BEGIN:VEVENT
UID:w3-182219@uib.no
DTSTAMP:20260408T163110Z
DTSTART:20260424T081500Z
DTEND:20260424T100000Z
SUMMARY:Disputas : Christian Sant Gjermestad
LOCATION:Realfagbygget, Auditorium 2
URL:https://www.uib.no/nb/kj/182219/disputas-christian-sant-gjermestad
CLASS:PUBLIC
TRANSP:TRANSPARENT
END:VEVENT
END:VCALENDAR

