BEGIN:VCALENDAR
VERSION:2.0
TIMEZONE:Europe/Oslo
PRODID:w3-182226@uib.no
URL:https://www.uib.no/nb/ift/182226/undervannskommunikasjon-mobilitet-i-t
 r%C3%A5dl%C3%B8se-sensornettverk
NAME:Undervannskommunikasjon: mobilitet i trådløse sensornettverk
BEGIN:VEVENT
UID:w3-182226@uib.no
DTSTAMP:20260409T125541Z
DTSTART:20260423T063000Z
DTEND:20260423T100000Z
SUMMARY:Undervannskommunikasjon: mobilitet i trådløse sensornettverk
DESCRIPTION:Torsdag 23. april 2026 arrangerer SFI Smart Ocean en
 samling om undervannskommunikasjon, under One Ocean Week.
Fokus er
 på mobilitet i trådløse sensornettverk og utfordringer ved
 dynamiske undervannsmiljøer.
LOCATION:Litteraturhuset i Bergen (Olav H. Hauge-salen), Østre
 Skostredet 5-7
URL:https://www.uib.no/nb/ift/182226/undervannskommunikasjon-mobilitet
 -i-tr%C3%A5dl%C3%B8se-sensornettverk
CLASS:PUBLIC
TRANSP:TRANSPARENT
END:VEVENT
END:VCALENDAR

