BEGIN:VCALENDAR
VERSION:2.0
TIMEZONE:Europe/Oslo
PRODID:w3-182234@uib.no
URL:https://www.uib.no/nb/igs/182234/pr%C3%B8veforelesning-robin-mzati-sin
 samala
NAME:Prøveforelesning: Robin Mzati Sinsamala 
BEGIN:VEVENT
UID:w3-182234@uib.no
DTSTAMP:20260410T111521Z
DTSTART:20260420T081500Z
DTEND:20260420T091500Z
SUMMARY:Prøveforelesning: Robin Mzati Sinsamala 
LOCATION:Midgard (aula), Alrek helseklynge, Årstadveien 17
URL:https://www.uib.no/nb/igs/182234/pr%C3%B8veforelesning-robin-mzati
 -sinsamala
CLASS:PUBLIC
TRANSP:TRANSPARENT
END:VEVENT
END:VCALENDAR

