BEGIN:VCALENDAR
VERSION:2.0
TIMEZONE:Europe/Oslo
PRODID:w3-182236@uib.no
URL:https://www.uib.no/nb/math/182236/eksamensfest-i-matematikk
NAME:Eksamensfest i matematikk
BEGIN:VEVENT
UID:w3-182236@uib.no
DTSTAMP:20260410T114139Z
DTSTART:20260604T160000Z
DTEND:20260604T190000Z
SUMMARY:Eksamensfest i matematikk
DESCRIPTION:For matematikklærere og andre interesserte i og rundt
 Vestland fylkeskommune
LOCATION:VilVite, 2. etg
URL:https://www.uib.no/nb/math/182236/eksamensfest-i-matematikk
CLASS:PUBLIC
TRANSP:TRANSPARENT
END:VEVENT
END:VCALENDAR

