BEGIN:VCALENDAR
VERSION:2.0
TIMEZONE:Europe/Oslo
PRODID:w3-182245@uib.no
URL:https://www.uib.no/nb/lektorsenteret/182245/avslutningsseremoni-lektor
 -og-ppu-studenter-2026
NAME:Avslutningsseremoni for lektor- og PPU-studenter 2026
BEGIN:VEVENT
UID:w3-182245@uib.no
DTSTAMP:20260410T133114Z
DTSTART:20260612T090000Z
DTEND:20260612T103000Z
SUMMARY:Avslutningsseremoni for lektor- og PPU-studenter 2026
DESCRIPTION:Vi inviterer alle som fullfører femårig integrert
 lektorutdanning eller praktisk-pedagogisk utdanning i 2026 til
 lektorseremoni fredag 12. juni 2026.
LOCATION:Universitetsaulaen
URL:https://www.uib.no/nb/lektorsenteret/182245/avslutningsseremoni-le
 ktor-og-ppu-studenter-2026
CLASS:PUBLIC
TRANSP:TRANSPARENT
END:VEVENT
END:VCALENDAR

