BEGIN:VCALENDAR
VERSION:2.0
TIMEZONE:Europe/Oslo
PRODID:w3-182273@uib.no
URL:https://www.uib.no/nb/isp/182273/disputas-michalis-lavdas
NAME:Disputas: Michalis Lavdas
BEGIN:VEVENT
UID:w3-182273@uib.no
DTSTAMP:20260414T123113Z
DTSTART:20260507T083000Z
DTEND:20260507T113000Z
SUMMARY:Disputas: Michalis Lavdas
LOCATION:Bjørn Christiansens hus (Christies gate 12), Auditorium 129
URL:https://www.uib.no/nb/isp/182273/disputas-michalis-lavdas
CLASS:PUBLIC
TRANSP:TRANSPARENT
END:VEVENT
END:VCALENDAR

