BEGIN:VCALENDAR
VERSION:2.0
TIMEZONE:Europe/Oslo
PRODID:w3-182283@uib.no
URL:https://www.uib.no/nb/ub/182283/siter-med-rettskilder
NAME:SITER med rettskilder
BEGIN:VEVENT
UID:w3-182283@uib.no
DTSTAMP:20260415T070052Z
DTSTART:20260429T070000Z
DTEND:20260507T130000Z
SUMMARY:SITER med rettskilder
DESCRIPTION:Er du usikker på hvordan eller når du skal henvise til
 kildene du bruker? I perioden 29. april til 7. mai holder vi på
 biblioteket verksteder hvor vi kan hjelpe deg med å få det formelle
 på stell, slik at du kan senke skuldrene litt i innspurten før
 innlevering.

Vi kan også ta opp spørsmål om etiske
 retningslinjer, bruk av KI og metode.
LOCATION:Undervisningsrom, Bibliotek for juridiske fag, Magnus
 Lagabøtesplass 1
URL:https://www.uib.no/nb/ub/182283/siter-med-rettskilder
CLASS:PUBLIC
TRANSP:TRANSPARENT
END:VEVENT
END:VCALENDAR

