BEGIN:VCALENDAR
VERSION:2.0
TIMEZONE:Europe/Oslo
PRODID:w3-182286@uib.no
URL:https://www.uib.no/nb/med/182286/driv-frokost-autoimmunitet-i-kvinnehe
 lse-aktuelle-perspektiver-og-forskningsstatus
NAME:DRIV-frokost: Autoimmunitet i kvinnehelse- aktuelle perspektiver og
 forskningsstatus
BEGIN:VEVENT
UID:w3-182286@uib.no
DTSTAMP:20260415T080905Z
DTSTART:20260526T063000Z
DTEND:20260526T072000Z
SUMMARY:DRIV-frokost: Autoimmunitet i kvinnehelse- aktuelle
 perspektiver og forskningsstatus
DESCRIPTION:Velkommen til vår aller første Driv-frokost, en ny
 møteplass for forskere som vil ha rask tilgang til aktuell forskning
 og faglig utveksling på tvers av disipliner.
LOCATION:Styrerommet, Det medisinske fakultet. 4. etg. Armauer Hansens
 Hus
URL:https://www.uib.no/nb/med/182286/driv-frokost-autoimmunitet-i-kvin
 nehelse-aktuelle-perspektiver-og-forskningsstatus
CLASS:PUBLIC
TRANSP:TRANSPARENT
END:VEVENT
END:VCALENDAR

